BEGIN:VCALENDAR
VERSION:2.0
PRODID:-//Berufsbildende Schule Simmern - ECPv6.15.20//NONSGML v1.0//EN
CALSCALE:GREGORIAN
METHOD:PUBLISH
X-ORIGINAL-URL:https://www.bbs-simmern.de
X-WR-CALDESC:Veranstaltungen für Berufsbildende Schule Simmern
REFRESH-INTERVAL;VALUE=DURATION:PT1H
X-Robots-Tag:noindex
X-PUBLISHED-TTL:PT1H
BEGIN:VTIMEZONE
TZID:Europe/Berlin
BEGIN:DAYLIGHT
TZOFFSETFROM:+0100
TZOFFSETTO:+0200
TZNAME:CEST
DTSTART:19800406T010000
END:DAYLIGHT
BEGIN:STANDARD
TZOFFSETFROM:+0200
TZOFFSETTO:+0100
TZNAME:CET
DTSTART:19800928T010000
END:STANDARD
BEGIN:DAYLIGHT
TZOFFSETFROM:+0100
TZOFFSETTO:+0200
TZNAME:CEST
DTSTART:19810329T010000
END:DAYLIGHT
BEGIN:STANDARD
TZOFFSETFROM:+0200
TZOFFSETTO:+0100
TZNAME:CET
DTSTART:19810927T010000
END:STANDARD
BEGIN:DAYLIGHT
TZOFFSETFROM:+0100
TZOFFSETTO:+0200
TZNAME:CEST
DTSTART:19820328T010000
END:DAYLIGHT
BEGIN:STANDARD
TZOFFSETFROM:+0200
TZOFFSETTO:+0100
TZNAME:CET
DTSTART:19820926T010000
END:STANDARD
BEGIN:DAYLIGHT
TZOFFSETFROM:+0100
TZOFFSETTO:+0200
TZNAME:CEST
DTSTART:19830327T010000
END:DAYLIGHT
BEGIN:STANDARD
TZOFFSETFROM:+0200
TZOFFSETTO:+0100
TZNAME:CET
DTSTART:19830925T010000
END:STANDARD
BEGIN:DAYLIGHT
TZOFFSETFROM:+0100
TZOFFSETTO:+0200
TZNAME:CEST
DTSTART:19840325T010000
END:DAYLIGHT
BEGIN:STANDARD
TZOFFSETFROM:+0200
TZOFFSETTO:+0100
TZNAME:CET
DTSTART:19840930T010000
END:STANDARD
BEGIN:DAYLIGHT
TZOFFSETFROM:+0100
TZOFFSETTO:+0200
TZNAME:CEST
DTSTART:19850331T010000
END:DAYLIGHT
BEGIN:STANDARD
TZOFFSETFROM:+0200
TZOFFSETTO:+0100
TZNAME:CET
DTSTART:19850929T010000
END:STANDARD
BEGIN:DAYLIGHT
TZOFFSETFROM:+0100
TZOFFSETTO:+0200
TZNAME:CEST
DTSTART:19860330T010000
END:DAYLIGHT
BEGIN:STANDARD
TZOFFSETFROM:+0200
TZOFFSETTO:+0100
TZNAME:CET
DTSTART:19860928T010000
END:STANDARD
BEGIN:DAYLIGHT
TZOFFSETFROM:+0100
TZOFFSETTO:+0200
TZNAME:CEST
DTSTART:19870329T010000
END:DAYLIGHT
BEGIN:STANDARD
TZOFFSETFROM:+0200
TZOFFSETTO:+0100
TZNAME:CET
DTSTART:19870927T010000
END:STANDARD
BEGIN:DAYLIGHT
TZOFFSETFROM:+0100
TZOFFSETTO:+0200
TZNAME:CEST
DTSTART:19880327T010000
END:DAYLIGHT
BEGIN:STANDARD
TZOFFSETFROM:+0200
TZOFFSETTO:+0100
TZNAME:CET
DTSTART:19880925T010000
END:STANDARD
BEGIN:DAYLIGHT
TZOFFSETFROM:+0100
TZOFFSETTO:+0200
TZNAME:CEST
DTSTART:19890326T010000
END:DAYLIGHT
BEGIN:STANDARD
TZOFFSETFROM:+0200
TZOFFSETTO:+0100
TZNAME:CET
DTSTART:19890924T010000
END:STANDARD
BEGIN:DAYLIGHT
TZOFFSETFROM:+0100
TZOFFSETTO:+0200
TZNAME:CEST
DTSTART:19900325T010000
END:DAYLIGHT
BEGIN:STANDARD
TZOFFSETFROM:+0200
TZOFFSETTO:+0100
TZNAME:CET
DTSTART:19900930T010000
END:STANDARD
BEGIN:DAYLIGHT
TZOFFSETFROM:+0100
TZOFFSETTO:+0200
TZNAME:CEST
DTSTART:19910331T010000
END:DAYLIGHT
BEGIN:STANDARD
TZOFFSETFROM:+0200
TZOFFSETTO:+0100
TZNAME:CET
DTSTART:19910929T010000
END:STANDARD
BEGIN:DAYLIGHT
TZOFFSETFROM:+0100
TZOFFSETTO:+0200
TZNAME:CEST
DTSTART:19920329T010000
END:DAYLIGHT
BEGIN:STANDARD
TZOFFSETFROM:+0200
TZOFFSETTO:+0100
TZNAME:CET
DTSTART:19920927T010000
END:STANDARD
BEGIN:DAYLIGHT
TZOFFSETFROM:+0100
TZOFFSETTO:+0200
TZNAME:CEST
DTSTART:19930328T010000
END:DAYLIGHT
BEGIN:STANDARD
TZOFFSETFROM:+0200
TZOFFSETTO:+0100
TZNAME:CET
DTSTART:19930926T010000
END:STANDARD
BEGIN:DAYLIGHT
TZOFFSETFROM:+0100
TZOFFSETTO:+0200
TZNAME:CEST
DTSTART:19940327T010000
END:DAYLIGHT
BEGIN:STANDARD
TZOFFSETFROM:+0200
TZOFFSETTO:+0100
TZNAME:CET
DTSTART:19940925T010000
END:STANDARD
BEGIN:DAYLIGHT
TZOFFSETFROM:+0100
TZOFFSETTO:+0200
TZNAME:CEST
DTSTART:19950326T010000
END:DAYLIGHT
BEGIN:STANDARD
TZOFFSETFROM:+0200
TZOFFSETTO:+0100
TZNAME:CET
DTSTART:19950924T010000
END:STANDARD
BEGIN:DAYLIGHT
TZOFFSETFROM:+0100
TZOFFSETTO:+0200
TZNAME:CEST
DTSTART:19960331T010000
END:DAYLIGHT
BEGIN:STANDARD
TZOFFSETFROM:+0200
TZOFFSETTO:+0100
TZNAME:CET
DTSTART:19961027T010000
END:STANDARD
BEGIN:DAYLIGHT
TZOFFSETFROM:+0100
TZOFFSETTO:+0200
TZNAME:CEST
DTSTART:19970330T010000
END:DAYLIGHT
BEGIN:STANDARD
TZOFFSETFROM:+0200
TZOFFSETTO:+0100
TZNAME:CET
DTSTART:19971026T010000
END:STANDARD
BEGIN:DAYLIGHT
TZOFFSETFROM:+0100
TZOFFSETTO:+0200
TZNAME:CEST
DTSTART:19980329T010000
END:DAYLIGHT
BEGIN:STANDARD
TZOFFSETFROM:+0200
TZOFFSETTO:+0100
TZNAME:CET
DTSTART:19981025T010000
END:STANDARD
BEGIN:DAYLIGHT
TZOFFSETFROM:+0100
TZOFFSETTO:+0200
TZNAME:CEST
DTSTART:19990328T010000
END:DAYLIGHT
BEGIN:STANDARD
TZOFFSETFROM:+0200
TZOFFSETTO:+0100
TZNAME:CET
DTSTART:19991031T010000
END:STANDARD
BEGIN:DAYLIGHT
TZOFFSETFROM:+0100
TZOFFSETTO:+0200
TZNAME:CEST
DTSTART:20000326T010000
END:DAYLIGHT
BEGIN:STANDARD
TZOFFSETFROM:+0200
TZOFFSETTO:+0100
TZNAME:CET
DTSTART:20001029T010000
END:STANDARD
BEGIN:DAYLIGHT
TZOFFSETFROM:+0100
TZOFFSETTO:+0200
TZNAME:CEST
DTSTART:20010325T010000
END:DAYLIGHT
BEGIN:STANDARD
TZOFFSETFROM:+0200
TZOFFSETTO:+0100
TZNAME:CET
DTSTART:20011028T010000
END:STANDARD
BEGIN:DAYLIGHT
TZOFFSETFROM:+0100
TZOFFSETTO:+0200
TZNAME:CEST
DTSTART:20020331T010000
END:DAYLIGHT
BEGIN:STANDARD
TZOFFSETFROM:+0200
TZOFFSETTO:+0100
TZNAME:CET
DTSTART:20021027T010000
END:STANDARD
BEGIN:DAYLIGHT
TZOFFSETFROM:+0100
TZOFFSETTO:+0200
TZNAME:CEST
DTSTART:20030330T010000
END:DAYLIGHT
BEGIN:STANDARD
TZOFFSETFROM:+0200
TZOFFSETTO:+0100
TZNAME:CET
DTSTART:20031026T010000
END:STANDARD
BEGIN:DAYLIGHT
TZOFFSETFROM:+0100
TZOFFSETTO:+0200
TZNAME:CEST
DTSTART:20040328T010000
END:DAYLIGHT
BEGIN:STANDARD
TZOFFSETFROM:+0200
TZOFFSETTO:+0100
TZNAME:CET
DTSTART:20041031T010000
END:STANDARD
BEGIN:DAYLIGHT
TZOFFSETFROM:+0100
TZOFFSETTO:+0200
TZNAME:CEST
DTSTART:20050327T010000
END:DAYLIGHT
BEGIN:STANDARD
TZOFFSETFROM:+0200
TZOFFSETTO:+0100
TZNAME:CET
DTSTART:20051030T010000
END:STANDARD
BEGIN:DAYLIGHT
TZOFFSETFROM:+0100
TZOFFSETTO:+0200
TZNAME:CEST
DTSTART:20060326T010000
END:DAYLIGHT
BEGIN:STANDARD
TZOFFSETFROM:+0200
TZOFFSETTO:+0100
TZNAME:CET
DTSTART:20061029T010000
END:STANDARD
BEGIN:DAYLIGHT
TZOFFSETFROM:+0100
TZOFFSETTO:+0200
TZNAME:CEST
DTSTART:20070325T010000
END:DAYLIGHT
BEGIN:STANDARD
TZOFFSETFROM:+0200
TZOFFSETTO:+0100
TZNAME:CET
DTSTART:20071028T010000
END:STANDARD
BEGIN:DAYLIGHT
TZOFFSETFROM:+0100
TZOFFSETTO:+0200
TZNAME:CEST
DTSTART:20080330T010000
END:DAYLIGHT
BEGIN:STANDARD
TZOFFSETFROM:+0200
TZOFFSETTO:+0100
TZNAME:CET
DTSTART:20081026T010000
END:STANDARD
BEGIN:DAYLIGHT
TZOFFSETFROM:+0100
TZOFFSETTO:+0200
TZNAME:CEST
DTSTART:20090329T010000
END:DAYLIGHT
BEGIN:STANDARD
TZOFFSETFROM:+0200
TZOFFSETTO:+0100
TZNAME:CET
DTSTART:20091025T010000
END:STANDARD
BEGIN:DAYLIGHT
TZOFFSETFROM:+0100
TZOFFSETTO:+0200
TZNAME:CEST
DTSTART:20100328T010000
END:DAYLIGHT
BEGIN:STANDARD
TZOFFSETFROM:+0200
TZOFFSETTO:+0100
TZNAME:CET
DTSTART:20101031T010000
END:STANDARD
BEGIN:DAYLIGHT
TZOFFSETFROM:+0100
TZOFFSETTO:+0200
TZNAME:CEST
DTSTART:20110327T010000
END:DAYLIGHT
BEGIN:STANDARD
TZOFFSETFROM:+0200
TZOFFSETTO:+0100
TZNAME:CET
DTSTART:20111030T010000
END:STANDARD
BEGIN:DAYLIGHT
TZOFFSETFROM:+0100
TZOFFSETTO:+0200
TZNAME:CEST
DTSTART:20120325T010000
END:DAYLIGHT
BEGIN:STANDARD
TZOFFSETFROM:+0200
TZOFFSETTO:+0100
TZNAME:CET
DTSTART:20121028T010000
END:STANDARD
BEGIN:DAYLIGHT
TZOFFSETFROM:+0100
TZOFFSETTO:+0200
TZNAME:CEST
DTSTART:20130331T010000
END:DAYLIGHT
BEGIN:STANDARD
TZOFFSETFROM:+0200
TZOFFSETTO:+0100
TZNAME:CET
DTSTART:20131027T010000
END:STANDARD
BEGIN:DAYLIGHT
TZOFFSETFROM:+0100
TZOFFSETTO:+0200
TZNAME:CEST
DTSTART:20140330T010000
END:DAYLIGHT
BEGIN:STANDARD
TZOFFSETFROM:+0200
TZOFFSETTO:+0100
TZNAME:CET
DTSTART:20141026T010000
END:STANDARD
BEGIN:DAYLIGHT
TZOFFSETFROM:+0100
TZOFFSETTO:+0200
TZNAME:CEST
DTSTART:20150329T010000
END:DAYLIGHT
BEGIN:STANDARD
TZOFFSETFROM:+0200
TZOFFSETTO:+0100
TZNAME:CET
DTSTART:20151025T010000
END:STANDARD
BEGIN:DAYLIGHT
TZOFFSETFROM:+0100
TZOFFSETTO:+0200
TZNAME:CEST
DTSTART:20160327T010000
END:DAYLIGHT
BEGIN:STANDARD
TZOFFSETFROM:+0200
TZOFFSETTO:+0100
TZNAME:CET
DTSTART:20161030T010000
END:STANDARD
BEGIN:DAYLIGHT
TZOFFSETFROM:+0100
TZOFFSETTO:+0200
TZNAME:CEST
DTSTART:20170326T010000
END:DAYLIGHT
BEGIN:STANDARD
TZOFFSETFROM:+0200
TZOFFSETTO:+0100
TZNAME:CET
DTSTART:20171029T010000
END:STANDARD
BEGIN:DAYLIGHT
TZOFFSETFROM:+0100
TZOFFSETTO:+0200
TZNAME:CEST
DTSTART:20180325T010000
END:DAYLIGHT
BEGIN:STANDARD
TZOFFSETFROM:+0200
TZOFFSETTO:+0100
TZNAME:CET
DTSTART:20181028T010000
END:STANDARD
BEGIN:DAYLIGHT
TZOFFSETFROM:+0100
TZOFFSETTO:+0200
TZNAME:CEST
DTSTART:20190331T010000
END:DAYLIGHT
BEGIN:STANDARD
TZOFFSETFROM:+0200
TZOFFSETTO:+0100
TZNAME:CET
DTSTART:20191027T010000
END:STANDARD
BEGIN:DAYLIGHT
TZOFFSETFROM:+0100
TZOFFSETTO:+0200
TZNAME:CEST
DTSTART:20200329T010000
END:DAYLIGHT
BEGIN:STANDARD
TZOFFSETFROM:+0200
TZOFFSETTO:+0100
TZNAME:CET
DTSTART:20201025T010000
END:STANDARD
BEGIN:DAYLIGHT
TZOFFSETFROM:+0100
TZOFFSETTO:+0200
TZNAME:CEST
DTSTART:20210328T010000
END:DAYLIGHT
BEGIN:STANDARD
TZOFFSETFROM:+0200
TZOFFSETTO:+0100
TZNAME:CET
DTSTART:20211031T010000
END:STANDARD
BEGIN:DAYLIGHT
TZOFFSETFROM:+0100
TZOFFSETTO:+0200
TZNAME:CEST
DTSTART:20220327T010000
END:DAYLIGHT
BEGIN:STANDARD
TZOFFSETFROM:+0200
TZOFFSETTO:+0100
TZNAME:CET
DTSTART:20221030T010000
END:STANDARD
BEGIN:DAYLIGHT
TZOFFSETFROM:+0100
TZOFFSETTO:+0200
TZNAME:CEST
DTSTART:20230326T010000
END:DAYLIGHT
BEGIN:STANDARD
TZOFFSETFROM:+0200
TZOFFSETTO:+0100
TZNAME:CET
DTSTART:20231029T010000
END:STANDARD
BEGIN:DAYLIGHT
TZOFFSETFROM:+0100
TZOFFSETTO:+0200
TZNAME:CEST
DTSTART:20240331T010000
END:DAYLIGHT
BEGIN:STANDARD
TZOFFSETFROM:+0200
TZOFFSETTO:+0100
TZNAME:CET
DTSTART:20241027T010000
END:STANDARD
BEGIN:DAYLIGHT
TZOFFSETFROM:+0100
TZOFFSETTO:+0200
TZNAME:CEST
DTSTART:20250330T010000
END:DAYLIGHT
BEGIN:STANDARD
TZOFFSETFROM:+0200
TZOFFSETTO:+0100
TZNAME:CET
DTSTART:20251026T010000
END:STANDARD
BEGIN:DAYLIGHT
TZOFFSETFROM:+0100
TZOFFSETTO:+0200
TZNAME:CEST
DTSTART:20260329T010000
END:DAYLIGHT
BEGIN:STANDARD
TZOFFSETFROM:+0200
TZOFFSETTO:+0100
TZNAME:CET
DTSTART:20261025T010000
END:STANDARD
END:VTIMEZONE
BEGIN:VEVENT
DTSTART;TZID=Europe/Berlin:20260421T002848
DTEND;TZID=Europe/Berlin:20250827T131500
DTSTAMP:20260421T002848
CREATED:20250827T132925Z
LAST-MODIFIED:20250827T132925Z
UID:196321-0-1756300500@www.bbs-simmern.de
SUMMARY:BVJ: 3. Bildungsgangskonferenz
DESCRIPTION:15:10
URL:https://www.bbs-simmern.de/event/bvj-3-bildungsgangskonferenz-3/
END:VEVENT
BEGIN:VEVENT
DTSTART;TZID=Europe/Berlin:20260421T002848
DTEND;TZID=Europe/Berlin:20250827T131500
DTSTAMP:20260421T002848
CREATED:20250827T133611Z
LAST-MODIFIED:20250827T133611Z
UID:196350-0-1756300500@www.bbs-simmern.de
SUMMARY:BVJ: Zeugnisausgabe
DESCRIPTION:14:25
URL:https://www.bbs-simmern.de/event/bvj-zeugnisausgabe-2/
LOCATION:Aula
END:VEVENT
BEGIN:VEVENT
DTSTART;TZID=Europe/Berlin:20250502T000000
DTEND;TZID=Europe/Berlin:20250502T000000
DTSTAMP:20260421T002848
CREATED:20240930T111104Z
LAST-MODIFIED:20240930T122605Z
UID:167636-1746144000-1746144000@www.bbs-simmern.de
SUMMARY:4. Beweglicher Ferientag
DESCRIPTION:
URL:https://www.bbs-simmern.de/event/4-beweglicher-ferientag/
CATEGORIES:Berufsschule,BVJ,BF 1,BF 2,BF Pflege,HBF,BGY,FS APH,FS OF
END:VEVENT
BEGIN:VEVENT
DTSTART;TZID=Europe/Berlin:20250502T000000
DTEND;TZID=Europe/Berlin:20250502T000000
DTSTAMP:20260421T002848
CREATED:20240930T111105Z
LAST-MODIFIED:20240930T112904Z
UID:167637-1746144000-1746144000@www.bbs-simmern.de
SUMMARY:HBF Oberstufe: Vorlage der schriftl/ Prüfungsaufgaben Abschlussklassen
DESCRIPTION:
URL:https://www.bbs-simmern.de/event/hbf-oberstufe-vorlage-der-schriftl-pruefungsaufgaben-abschlussklassen-2/
CATEGORIES:HBF
END:VEVENT
BEGIN:VEVENT
DTSTART;TZID=Europe/Berlin:20250502T000000
DTEND;TZID=Europe/Berlin:20250505T235900
DTSTAMP:20260421T002848
CREATED:20240930T111105Z
LAST-MODIFIED:20240930T112853Z
UID:167638-1746144000-1746489540@www.bbs-simmern.de
SUMMARY:HBF Oberstufe: Eintragen der Vornoten der Prüfungsfächer in Prüfungslisten
DESCRIPTION:
URL:https://www.bbs-simmern.de/event/hbf-oberstufe-eintragen-der-vornoten-der-pruefungsfaecher-in-pruefungslisten-2/
CATEGORIES:HBF
END:VEVENT
BEGIN:VEVENT
DTSTART;TZID=Europe/Berlin:20250505T000000
DTEND;TZID=Europe/Berlin:20250516T235900
DTSTAMP:20260421T002848
CREATED:20240930T111105Z
LAST-MODIFIED:20240930T112842Z
UID:167639-1746403200-1747439940@www.bbs-simmern.de
SUMMARY:BF2: Vorlage und Genehmigung der Aufgaben für die besondere Leistungsfeststellung
DESCRIPTION:
URL:https://www.bbs-simmern.de/event/bf2-vorlage-und-genehmigung-der-aufgaben-fuer-die-besondere-leistungsfeststellung-2/
CATEGORIES:BF 2
END:VEVENT
BEGIN:VEVENT
DTSTART;TZID=Europe/Berlin:20250505T074000
DTEND;TZID=Europe/Berlin:20250507T151000
DTSTAMP:20260421T002848
CREATED:20240930T111120Z
LAST-MODIFIED:20240930T112822Z
UID:167640-1746430800-1746630600@www.bbs-simmern.de
SUMMARY:BFP 22 u. FS APH 24: Schriftliche Prüfungen
DESCRIPTION:
URL:https://www.bbs-simmern.de/event/bfp-22-u-fs-aph-24-schriftliche-pruefungen/
CATEGORIES:BF Pflege,FS APH
END:VEVENT
BEGIN:VEVENT
DTSTART;TZID=Europe/Berlin:20250507T090000
DTEND;TZID=Europe/Berlin:20250507T090000
DTSTAMP:20260421T002848
CREATED:20240930T111120Z
LAST-MODIFIED:20240930T112809Z
UID:167641-1746608400-1746608400@www.bbs-simmern.de
SUMMARY:BGY 22: Zentrale Abiturprüfung in Englisch
DESCRIPTION:Aula (vorgegeben)
URL:https://www.bbs-simmern.de/event/bgy-22-zentrale-abiturpruefung-in-englisch/
CATEGORIES:BGY
END:VEVENT
BEGIN:VEVENT
DTSTART;TZID=Europe/Berlin:20250509T090000
DTEND;TZID=Europe/Berlin:20250509T090000
DTSTAMP:20260421T002848
CREATED:20240930T111120Z
LAST-MODIFIED:20240930T112759Z
UID:167642-1746781200-1746781200@www.bbs-simmern.de
SUMMARY:BGY 22: Zentrale Abiturprüfung in Mathematik
DESCRIPTION:Aula (vorgegeben)
URL:https://www.bbs-simmern.de/event/bgy-22-zentrale-abiturpruefung-in-mathematik/
CATEGORIES:BGY
END:VEVENT
BEGIN:VEVENT
DTSTART;TZID=Europe/Berlin:20250512T000000
DTEND;TZID=Europe/Berlin:20250512T000000
DTSTAMP:20260421T002848
CREATED:20240930T111120Z
LAST-MODIFIED:20240930T112753Z
UID:167643-1747008000-1747008000@www.bbs-simmern.de
SUMMARY:HBF Oberstufe: Schriftliche Prüfungen FHR Mathematik
DESCRIPTION:
URL:https://www.bbs-simmern.de/event/hbf-oberstufe-schriftliche-pruefungen-fhr-mathematik-2/
CATEGORIES:HBF
END:VEVENT
BEGIN:VEVENT
DTSTART;TZID=Europe/Berlin:20250512T000000
DTEND;TZID=Europe/Berlin:20250528T235900
DTSTAMP:20260421T002848
CREATED:20240930T111120Z
LAST-MODIFIED:20240930T112713Z
UID:167644-1747008000-1748476740@www.bbs-simmern.de
SUMMARY:BFP 22: Praktische Prüfungen
DESCRIPTION:
URL:https://www.bbs-simmern.de/event/bfp-22-praktische-pruefungen/
CATEGORIES:BF Pflege
END:VEVENT
BEGIN:VEVENT
DTSTART;TZID=Europe/Berlin:20250514T000000
DTEND;TZID=Europe/Berlin:20250514T000000
DTSTAMP:20260421T002848
CREATED:20240930T111134Z
LAST-MODIFIED:20240930T112624Z
UID:167645-1747180800-1747180800@www.bbs-simmern.de
SUMMARY:HBF Oberstufe: Schriftliche Prüfungen FHR Deutsch
DESCRIPTION:
URL:https://www.bbs-simmern.de/event/hbf-oberstufe-schriftliche-pruefungen-fhr-deutsch-2/
CATEGORIES:HBF
END:VEVENT
BEGIN:VEVENT
DTSTART;TZID=Europe/Berlin:20250516T000000
DTEND;TZID=Europe/Berlin:20250516T000000
DTSTAMP:20260421T002848
CREATED:20240930T111134Z
LAST-MODIFIED:20240930T112612Z
UID:167646-1747353600-1747353600@www.bbs-simmern.de
SUMMARY:HBF Oberstufe: Schriftliche Prüfungen FHR Englisch
DESCRIPTION:
URL:https://www.bbs-simmern.de/event/hbf-oberstufe-schriftliche-pruefungen-fhr-englisch-2/
CATEGORIES:HBF
END:VEVENT
BEGIN:VEVENT
DTSTART;TZID=Europe/Berlin:20250519T000000
DTEND;TZID=Europe/Berlin:20250519T000000
DTSTAMP:20260421T002848
CREATED:20240930T111134Z
LAST-MODIFIED:20240930T112554Z
UID:167647-1747612800-1747612800@www.bbs-simmern.de
SUMMARY:HBF Oberstufe: Schriftliche Prüfungen Assistent
DESCRIPTION:
URL:https://www.bbs-simmern.de/event/hbf-oberstufe-schriftliche-pruefungen-assistent-4/
CATEGORIES:HBF
END:VEVENT
BEGIN:VEVENT
DTSTART;TZID=Europe/Berlin:20250519T000000
DTEND;TZID=Europe/Berlin:20250613T235900
DTSTAMP:20260421T002848
CREATED:20240930T111134Z
LAST-MODIFIED:20240930T112545Z
UID:167648-1747612800-1749859140@www.bbs-simmern.de
SUMMARY:BF 2: Besondere Leistungsfeststellung
DESCRIPTION:
URL:https://www.bbs-simmern.de/event/bf-2-besondere-leistungsfeststellung-2/
CATEGORIES:BF 2
END:VEVENT
BEGIN:VEVENT
DTSTART;TZID=Europe/Berlin:20250521T000000
DTEND;TZID=Europe/Berlin:20250521T000000
DTSTAMP:20260421T002848
CREATED:20240930T111135Z
LAST-MODIFIED:20240930T112537Z
UID:167649-1747785600-1747785600@www.bbs-simmern.de
SUMMARY:HBF Oberstufe: Schriftliche Prüfungen Assistent
DESCRIPTION:
URL:https://www.bbs-simmern.de/event/hbf-oberstufe-schriftliche-pruefungen-assistent-5/
CATEGORIES:HBF
END:VEVENT
BEGIN:VEVENT
DTSTART;TZID=Europe/Berlin:20250523T000000
DTEND;TZID=Europe/Berlin:20250523T000000
DTSTAMP:20260421T002848
CREATED:20240930T111149Z
LAST-MODIFIED:20240930T112527Z
UID:167650-1747958400-1747958400@www.bbs-simmern.de
SUMMARY:HBF Oberstufe: Schriftliche Prüfungen Assistent
DESCRIPTION:
URL:https://www.bbs-simmern.de/event/hbf-oberstufe-schriftliche-pruefungen-assistent-6/
CATEGORIES:HBF
END:VEVENT
BEGIN:VEVENT
DTSTART;TZID=Europe/Berlin:20250526T000000
DTEND;TZID=Europe/Berlin:20250602T235900
DTSTAMP:20260421T002848
CREATED:20240930T111149Z
LAST-MODIFIED:20240930T112518Z
UID:167651-1748217600-1748908740@www.bbs-simmern.de
SUMMARY:HBF Oberstufe: Eintragungen Prüfungsergebnisse sowie der restlichen Fächer in Prüfungslisten
DESCRIPTION:
URL:https://www.bbs-simmern.de/event/hbf-oberstufe-eintragungen-pruefungsergebnisse-sowie-der-restlichen-faecher-in-pruefungslisten-2/
CATEGORIES:HBF
END:VEVENT
BEGIN:VEVENT
DTSTART;TZID=Europe/Berlin:20250530T000000
DTEND;TZID=Europe/Berlin:20250530T000000
DTSTAMP:20260421T002848
CREATED:20240930T111149Z
LAST-MODIFIED:20240930T122540Z
UID:167652-1748563200-1748563200@www.bbs-simmern.de
SUMMARY:5. Beweglicher Ferientag
DESCRIPTION:
URL:https://www.bbs-simmern.de/event/5-beweglicher-ferientag/
CATEGORIES:Berufsschule,BVJ,BF 1,BF 2,BF Pflege,HBF,BGY,FS APH,FS OF
END:VEVENT
END:VCALENDAR